BEGIN:VCALENDAR
VERSION:2.0
PRODID:-//Dorfplatz STAW - ECPv6.10.2//NONSGML v1.0//EN
CALSCALE:GREGORIAN
METHOD:PUBLISH
X-WR-CALNAME:Dorfplatz STAW
X-ORIGINAL-URL:https://dorfplatz-staw.net
X-WR-CALDESC:Events for Dorfplatz STAW
REFRESH-INTERVAL;VALUE=DURATION:PT1H
X-Robots-Tag:noindex
X-PUBLISHED-TTL:PT1H
BEGIN:VTIMEZONE
TZID:Europe/Vienna
BEGIN:DAYLIGHT
TZOFFSETFROM:+0100
TZOFFSETTO:+0200
TZNAME:CEST
DTSTART:20260329T010000
END:DAYLIGHT
BEGIN:STANDARD
TZOFFSETFROM:+0200
TZOFFSETTO:+0100
TZNAME:CET
DTSTART:20261025T010000
END:STANDARD
END:VTIMEZONE
BEGIN:VEVENT
DTSTART;TZID=Europe/Vienna:20260621T100000
DTEND;TZID=Europe/Vienna:20260621T150000
DTSTAMP:20260423T110449
CREATED:20260120T130308Z
LAST-MODIFIED:20260120T130608Z
UID:12492-1782036000-1782054000@dorfplatz-staw.net
SUMMARY:Flohmarkt
DESCRIPTION:Vom Krimskrams bis zum Möbel bieten der DORFPLATZ und viele AusstellerInnen eine bunte Vielfalt an schönen Dingen. Leckere Kuchen\, kleine Gerichte und Snacks bietet das Flohmarktcafé in der Hofküche. Komm und sei dabei! \n\nStandplätze im Freien (ca. 2-3 m2): € 20\,- (inkl Heurigengarnitur solange der Vorrat reicht) •\nReservierung bitte bis 14.6. unter veranstaltung@dorfplatz-staw.net \nInfo (auch für Flohmarktspenden): barbara.r@dorfplatz-staw.net / 0676 913 41 99
URL:https://dorfplatz-staw.net/event/flohmarkt/
LOCATION:DORFPLATZ\, Josef-Karner-Platz 1\, St. Andrä-Wördern\, 3423\, Austria
CATEGORIES:Nachhaltigkeit
ATTACH;FMTTYPE=image/jpeg:https://dorfplatz-staw.net/wp-content/uploads/2026/01/flohm.jpg
ORGANIZER;CN="Verein DORFPLATZ":MAILTO:veranstaltung@dorfplatz-staw.net
END:VEVENT
END:VCALENDAR