BEGIN:VCALENDAR
VERSION:2.0
PRODID:-//Dorfplatz STAW - ECPv6.10.2//NONSGML v1.0//EN
CALSCALE:GREGORIAN
METHOD:PUBLISH
X-ORIGINAL-URL:https://dorfplatz-staw.net
X-WR-CALDESC:Events for Dorfplatz STAW
REFRESH-INTERVAL;VALUE=DURATION:PT1H
X-Robots-Tag:noindex
X-PUBLISHED-TTL:PT1H
BEGIN:VTIMEZONE
TZID:Europe/Vienna
BEGIN:DAYLIGHT
TZOFFSETFROM:+0100
TZOFFSETTO:+0200
TZNAME:CEST
DTSTART:20260329T010000
END:DAYLIGHT
BEGIN:STANDARD
TZOFFSETFROM:+0200
TZOFFSETTO:+0100
TZNAME:CET
DTSTART:20261025T010000
END:STANDARD
END:VTIMEZONE
BEGIN:VEVENT
DTSTART;TZID=Europe/Vienna:20260606T140000
DTEND;TZID=Europe/Vienna:20260606T170000
DTSTAMP:20260421T140751
CREATED:20260107T084137Z
LAST-MODIFIED:20260107T084217Z
UID:12439-1780754400-1780765200@dorfplatz-staw.net
SUMMARY:Repair Café
DESCRIPTION:Am DORFPLATZ kannst du mit Unter­stützung von Reparatur­erfahrenen versuchen\, kaputte Lieblings­dinge wieder in Gang zu bringen. Begutachtet und repariert werden Dinge\, die du alleine tragen kannst. Dazu gibt es Kaffee & Kuchen. \nBitte voranmelden\, bevorzugte Uhrzeit nennen und Info\, was repariert werden soll  \nunter repaircafe@dorfplatz-staw.net oder 0676 920 36 99. \nIn der Malakademie am DORFPLATZ.
URL:https://dorfplatz-staw.net/event/repair-cafe-7/
LOCATION:DORFPLATZ\, Josef-Karner-Platz 1\, St. Andrä-Wördern\, 3423\, Austria
CATEGORIES:Nachhaltigkeit
ATTACH;FMTTYPE=image/jpeg:https://dorfplatz-staw.net/wp-content/uploads/2025/09/repair-cafe-mai-2025.jpg
ORGANIZER;CN="Verein DORFPLATZ":MAILTO:veranstaltung@dorfplatz-staw.net
END:VEVENT
END:VCALENDAR