BEGIN:VCALENDAR
VERSION:2.0
PRODID:-//Dorfplatz STAW - ECPv6.10.2//NONSGML v1.0//EN
CALSCALE:GREGORIAN
METHOD:PUBLISH
X-WR-CALNAME:Dorfplatz STAW
X-ORIGINAL-URL:https://dorfplatz-staw.net
X-WR-CALDESC:Events for Dorfplatz STAW
REFRESH-INTERVAL;VALUE=DURATION:PT1H
X-Robots-Tag:noindex
X-PUBLISHED-TTL:PT1H
BEGIN:VTIMEZONE
TZID:Europe/Vienna
BEGIN:DAYLIGHT
TZOFFSETFROM:+0100
TZOFFSETTO:+0200
TZNAME:CEST
DTSTART:20260329T010000
END:DAYLIGHT
BEGIN:STANDARD
TZOFFSETFROM:+0200
TZOFFSETTO:+0100
TZNAME:CET
DTSTART:20261025T010000
END:STANDARD
END:VTIMEZONE
BEGIN:VEVENT
DTSTART;TZID=Europe/Vienna:20260516T160000
DTEND;TZID=Europe/Vienna:20260516T220000
DTSTAMP:20260423T110239
CREATED:20260122T144736Z
LAST-MODIFIED:20260420T151807Z
UID:12500-1778947200-1778968800@dorfplatz-staw.net
SUMMARY:Love is in the air
DESCRIPTION:Love is in the air am Dorfplatz spielt mit den Sichtweisen auf Liebe. Musikalisch\, bildnerisch\, kulinarisch.  Wir setzen in Zeiten wie diesen ein Zeichen. Für etwas was uns wichtig ist: Liebe verbindet. Mit uns selber\, dem Gegenüber den Anderen. Love is in the air – ein Fest der Liebe. \nAB 16 UHR \nLiebeshörerlebnisse in Werkstätten und Ateliers\nLausche den Live-Acts\, musikalisch\, poetisch\, humoristisch. \nRahmenprogramm\nPflück dir dein Liebesgedicht\nLiebesorakel – Paul Daniel\nLass dich verführen!\nAlles nur aus Liebe – Ausstellung von Julia Schulz\nLove Screening – Stop-Motion Videos der Malakademie\nLiebe zum Festhalten – Fotobox\nHerzschläge – Tischtennis mit Herz – Sportunion\nLiebe verleiht Flügel – Flieg!Karussell für Kinder\nZeig deine Liebe – Liebesschlösser\nTombola „Glück im Spiel & in der Liebe“\nRund um die Liebe – Kunsthandwerk aus unseren Werkstätten\nNähr die Liebe – mit aphrodisierenden Gerichten & Drinks aus der Hofküche\n… und vieles mehr. \n  \nAB 19:30 UHR      \nLove-Song Contest\nBands aus 7 Katastralgemeinden treten am schönsten Song Contest der Welt mit Liebesliedern auf\nFishverleih – Stereo Wasteland – Anna Kargl – NoPride – Annika Olbrich – Maja – Stephan Weissensteiner – Daniel Pilz u.v.m. \n  \nEintritt frei – Hutgeld \nWir veranstalten klimaschonend und erfüllen die Mindestanforderungen von Green Events Austria. \nFoto © Adobestock.com \n 
URL:https://dorfplatz-staw.net/event/love-is-in-the-air/
LOCATION:DORFPLATZ\, Josef-Karner-Platz 1\, St. Andrä-Wördern\, 3423\, Austria
CATEGORIES:Kulturveranstaltungen
ATTACH;FMTTYPE=image/jpeg:https://dorfplatz-staw.net/wp-content/uploads/2026/01/LIAweb_AdobeStock_286598988_bearb.jpg
ORGANIZER;CN="Verein DORFPLATZ":MAILTO:veranstaltung@dorfplatz-staw.net
END:VEVENT
END:VCALENDAR