BEGIN:VCALENDAR
VERSION:2.0
PRODID:-//Dorfplatz STAW - ECPv6.10.2//NONSGML v1.0//EN
CALSCALE:GREGORIAN
METHOD:PUBLISH
X-WR-CALNAME:Dorfplatz STAW
X-ORIGINAL-URL:https://dorfplatz-staw.net
X-WR-CALDESC:Events for Dorfplatz STAW
REFRESH-INTERVAL;VALUE=DURATION:PT1H
X-Robots-Tag:noindex
X-PUBLISHED-TTL:PT1H
BEGIN:VTIMEZONE
TZID:Europe/Vienna
BEGIN:DAYLIGHT
TZOFFSETFROM:+0100
TZOFFSETTO:+0200
TZNAME:CEST
DTSTART:20260329T010000
END:DAYLIGHT
BEGIN:STANDARD
TZOFFSETFROM:+0200
TZOFFSETTO:+0100
TZNAME:CET
DTSTART:20261025T010000
END:STANDARD
END:VTIMEZONE
BEGIN:VEVENT
DTSTART;TZID=Europe/Vienna:20260417T190000
DTEND;TZID=Europe/Vienna:20260417T220000
DTSTAMP:20260421T140105
CREATED:20260119T122218Z
LAST-MODIFIED:20260120T125242Z
UID:12473-1776452400-1776463200@dorfplatz-staw.net
SUMMARY:... wie blau
DESCRIPTION:Raul Corona (voc.\, git.) & Othmar Loschy (bluesharp\, voc.) spielen Lieder von ELEMENT OF CRIME. Erweitert um Lieder vom Meer\, erwartet euch ein besonders stimmiger musikalischer Abend. \nFoto @ Othmar Loschy \n 
URL:https://dorfplatz-staw.net/event/wieblau/
LOCATION:Hofküche am DORFPLATZ\, Josef-Karner-Platz 1\, St. Andrä-Wördern\, Niederösterreich\, 3423\, Austria
CATEGORIES:Kulturveranstaltungen
ATTACH;FMTTYPE=image/jpeg:https://dorfplatz-staw.net/wp-content/uploads/2026/01/raulandI-verein-08.jpg
END:VEVENT
END:VCALENDAR