BEGIN:VCALENDAR
VERSION:2.0
PRODID:-//Dorfplatz STAW - ECPv6.10.2//NONSGML v1.0//EN
CALSCALE:GREGORIAN
METHOD:PUBLISH
X-WR-CALNAME:Dorfplatz STAW
X-ORIGINAL-URL:https://dorfplatz-staw.net
X-WR-CALDESC:Events for Dorfplatz STAW
REFRESH-INTERVAL;VALUE=DURATION:PT1H
X-Robots-Tag:noindex
X-PUBLISHED-TTL:PT1H
BEGIN:VTIMEZONE
TZID:Europe/Vienna
BEGIN:DAYLIGHT
TZOFFSETFROM:+0100
TZOFFSETTO:+0200
TZNAME:CEST
DTSTART:20260329T010000
END:DAYLIGHT
BEGIN:STANDARD
TZOFFSETFROM:+0200
TZOFFSETTO:+0100
TZNAME:CET
DTSTART:20261025T010000
END:STANDARD
END:VTIMEZONE
BEGIN:VEVENT
DTSTART;TZID=Europe/Vienna:20260403T190000
DTEND;TZID=Europe/Vienna:20260403T220000
DTSTAMP:20260424T053509
CREATED:20260119T121636Z
LAST-MODIFIED:20260120T125350Z
UID:12470-1775242800-1775253600@dorfplatz-staw.net
SUMMARY:Tiny Tall Tales
DESCRIPTION:Tiny Tall Tales bringen in kleiner Besetzung aber mit viel Verspieltheit und Herzblut Musik von nah und fern auf die Bühne. Ihr\nProgramm führt von englischen Swingklassikern über südtirolische Schlaflieder hin zu mazedonischen Hochzeitsliedern. \nAnita Gröbl (AT) – Gesang\, Trumpet\, Teekanne | Richard Kimberley (UK) – Banjo\, Gesang + Tobias Tautscher (AT) – Kontrabass \nFoto @ Richard Kimberley \n 
URL:https://dorfplatz-staw.net/event/tinytalltales/
LOCATION:Hofküche am DORFPLATZ\, Josef-Karner-Platz 1\, St. Andrä-Wördern\, Niederösterreich\, 3423\, Austria
CATEGORIES:Kulturveranstaltungen
ATTACH;FMTTYPE=image/jpeg:https://dorfplatz-staw.net/wp-content/uploads/2026/01/TTT-promo-smaller-scaled-e1768914133473.jpg
END:VEVENT
END:VCALENDAR