BEGIN:VCALENDAR
VERSION:2.0
PRODID:-//Dorfplatz STAW - ECPv6.10.2//NONSGML v1.0//EN
CALSCALE:GREGORIAN
METHOD:PUBLISH
X-WR-CALNAME:Dorfplatz STAW
X-ORIGINAL-URL:https://dorfplatz-staw.net
X-WR-CALDESC:Events for Dorfplatz STAW
REFRESH-INTERVAL;VALUE=DURATION:PT1H
X-Robots-Tag:noindex
X-PUBLISHED-TTL:PT1H
BEGIN:VTIMEZONE
TZID:Europe/Vienna
BEGIN:DAYLIGHT
TZOFFSETFROM:+0100
TZOFFSETTO:+0200
TZNAME:CEST
DTSTART:20260329T010000
END:DAYLIGHT
BEGIN:STANDARD
TZOFFSETFROM:+0200
TZOFFSETTO:+0100
TZNAME:CET
DTSTART:20261025T010000
END:STANDARD
END:VTIMEZONE
BEGIN:VEVENT
DTSTART;TZID=Europe/Vienna:20260708T180000
DTEND;TZID=Europe/Vienna:20260708T220000
DTSTAMP:20260423T233817
CREATED:20260323T135444Z
LAST-MODIFIED:20260323T142524Z
UID:12629-1783533600-1783548000@dorfplatz-staw.net
SUMMARY:Sommer-Pubquiz mit Buffet
DESCRIPTION:Nach der Stärkung an unserem reichhaltigen Buffet mit österreichischen Schmankerln\, mediterranen Gaumenfreuden und orientalischen Leckerbissen – mit und ohne Bio-Fleisch – dürfen wieder Teams von 4-6 Personen knifflige Fragen beantworten. Für‘s Siegerteam gibt‘s einen Preis.\n\nQuiz mit Buffet & Begrüßungsdrink\, exkl. weitere Getränke € 28\,–\n\nQuizmaster: Valentin & Xandi\nReservierung bis spätestens 30.6.: hofkueche@dorfplatz-staw.net\nDieser Pubquiz ist nur gemeinsam mit dem Buffet buchbar.
URL:https://dorfplatz-staw.net/event/pubquizmitbuffet/
LOCATION:Hofküche am DORFPLATZ\, Josef-Karner-Platz 1\, St. Andrä-Wördern\, Niederösterreich\, 3423\, Austria
CATEGORIES:Hofküche
ATTACH;FMTTYPE=image/jpeg:https://dorfplatz-staw.net/wp-content/uploads/2026/01/brunch10.jpg
END:VEVENT
END:VCALENDAR