BEGIN:VCALENDAR
VERSION:2.0
PRODID:-//Dorfplatz STAW - ECPv6.10.2//NONSGML v1.0//EN
CALSCALE:GREGORIAN
METHOD:PUBLISH
X-ORIGINAL-URL:https://dorfplatz-staw.net
X-WR-CALDESC:Events for Dorfplatz STAW
REFRESH-INTERVAL;VALUE=DURATION:PT1H
X-Robots-Tag:noindex
X-PUBLISHED-TTL:PT1H
BEGIN:VTIMEZONE
TZID:Europe/Vienna
BEGIN:DAYLIGHT
TZOFFSETFROM:+0100
TZOFFSETTO:+0200
TZNAME:CEST
DTSTART:20260329T010000
END:DAYLIGHT
BEGIN:STANDARD
TZOFFSETFROM:+0200
TZOFFSETTO:+0100
TZNAME:CET
DTSTART:20261025T010000
END:STANDARD
END:VTIMEZONE
BEGIN:VEVENT
DTSTART;TZID=Europe/Vienna:20260416T183000
DTEND;TZID=Europe/Vienna:20260416T220000
DTSTAMP:20260421T154150
CREATED:20260323T133022Z
LAST-MODIFIED:20260323T133057Z
UID:12618-1776364200-1776376800@dorfplatz-staw.net
SUMMARY:Pubquiz
DESCRIPTION:Die Hofküche bietet ab 18:30 Uhr Speisen und Getränke. Quiz ab 19:30 Uhr.\nEs gilt in Teams von bis zu 6 Spielerinnen und Spielern mehr oder weniger knifflige Fragen richtig zu beantworten. Parallel dazu sollt ihr die zwischen den Fragen gespielten Songs und deren InterpretInnen erkennen. Eine Flasche Wein gibt’s für das Team\, das die Schätzfrage richtig beantwortet. Das beste Team des Abends erhält einen Essensgutschein pro Teammitglied.\nFair play – keine Handys oder andere Hilfsmittel!\nNenngeld: € 4\,–/Teilnehmer*in\nQuizmaster: Valentin & Xandi\nReservierung notwendig unter hofkueche@dorfplatz-staw.net
URL:https://dorfplatz-staw.net/event/pubquiz-3-copy-copy/
LOCATION:Hofküche am DORFPLATZ\, Josef-Karner-Platz 1\, St. Andrä-Wördern\, Niederösterreich\, 3423\, Austria
CATEGORIES:Hofküche
ATTACH;FMTTYPE=image/jpeg:https://dorfplatz-staw.net/wp-content/uploads/2025/04/Sujet-Pubquiz.jpg
END:VEVENT
END:VCALENDAR