BEGIN:VCALENDAR
VERSION:2.0
PRODID:-//Dorfplatz STAW - ECPv6.10.2//NONSGML v1.0//EN
CALSCALE:GREGORIAN
METHOD:PUBLISH
X-WR-CALNAME:Dorfplatz STAW
X-ORIGINAL-URL:https://dorfplatz-staw.net
X-WR-CALDESC:Events for Dorfplatz STAW
REFRESH-INTERVAL;VALUE=DURATION:PT1H
X-Robots-Tag:noindex
X-PUBLISHED-TTL:PT1H
BEGIN:VTIMEZONE
TZID:Europe/Vienna
BEGIN:DAYLIGHT
TZOFFSETFROM:+0100
TZOFFSETTO:+0200
TZNAME:CEST
DTSTART:20260329T010000
END:DAYLIGHT
BEGIN:STANDARD
TZOFFSETFROM:+0200
TZOFFSETTO:+0100
TZNAME:CET
DTSTART:20261025T010000
END:STANDARD
END:VTIMEZONE
BEGIN:VEVENT
DTSTART;TZID=Europe/Vienna:20260329T100000
DTEND;TZID=Europe/Vienna:20260329T130000
DTSTAMP:20260424T115759
CREATED:20260106T140942Z
LAST-MODIFIED:20260323T132338Z
UID:12406-1774778400-1774789200@dorfplatz-staw.net
SUMMARY:AUSGEBUCHT: Osterbrunch in der Hofküche
DESCRIPTION:AUSGEBUCHT: NÄCHSTER BRUNCH AM MUTTERTAG 10.5.\, Anmeldung schon möglich. \n\nGenießt mit Familie oder Freund*innen ein reichhaltiges saisonales Brunch-Buffet\, das alle Stückerln spielt: Suppen\, Antipasti\, kalte und warme Speisen und Desserts.\nBuffet (exkl. Getränke) € 28\,– Kinder bis 6 Jahre essen gratis\, 6 bis 12 J. € 18\,–\nBitte bis 26.3. reservieren: Tel. 0677/629 20 305 oder hofkueche@dorfplatz-staw.net
URL:https://dorfplatz-staw.net/event/osterbrunch/
CATEGORIES:Hofküche
ATTACH;FMTTYPE=image/jpeg:https://dorfplatz-staw.net/wp-content/uploads/2026/01/brunch9.jpg
ORGANIZER;CN="Hofk%C3%BCche":MAILTO:hofkueche@dorfplatz-staw.net
END:VEVENT
BEGIN:VEVENT
DTSTART;TZID=Europe/Vienna:20260329T130000
DTEND;TZID=Europe/Vienna:20260329T170000
DTSTAMP:20260424T115759
CREATED:20260106T142647Z
LAST-MODIFIED:20260213T174759Z
UID:12409-1774789200-1774803600@dorfplatz-staw.net
SUMMARY:Ostercafé und mehr: Kunsthandwerk & Ateliers
DESCRIPTION:Erstmals öffnen einige Ateliers und Werkstätten am Palmsonntag für euch und ihr könnt in feiner Atmosphäre in den Werkstätten\, Ateliers und der Hofküche kreative Geschenke erwerben.\nWeitere Infos folgen noch.\nFoto von Mirella Rusch
URL:https://dorfplatz-staw.net/event/kunsthandwerk-ateliers/
CATEGORIES:(Kunst)Handwerk,Hofküche
ATTACH;FMTTYPE=image/jpeg:https://dorfplatz-staw.net/wp-content/uploads/2026/01/Dorfplatz_STAW_xmas_open_2025_Handwerk_Foto_www.mirellarusch.com-7352-scaled.jpg
ORGANIZER;CN="Verein DORFPLATZ":MAILTO:veranstaltung@dorfplatz-staw.net
END:VEVENT
END:VCALENDAR