BEGIN:VCALENDAR
VERSION:2.0
PRODID:-//Dorfplatz STAW - ECPv6.10.2//NONSGML v1.0//EN
CALSCALE:GREGORIAN
METHOD:PUBLISH
X-ORIGINAL-URL:https://dorfplatz-staw.net
X-WR-CALDESC:Events for Dorfplatz STAW
REFRESH-INTERVAL;VALUE=DURATION:PT1H
X-Robots-Tag:noindex
X-PUBLISHED-TTL:PT1H
BEGIN:VTIMEZONE
TZID:Europe/Vienna
BEGIN:DAYLIGHT
TZOFFSETFROM:+0100
TZOFFSETTO:+0200
TZNAME:CEST
DTSTART:20260329T010000
END:DAYLIGHT
BEGIN:STANDARD
TZOFFSETFROM:+0200
TZOFFSETTO:+0100
TZNAME:CET
DTSTART:20261025T010000
END:STANDARD
END:VTIMEZONE
BEGIN:VEVENT
DTSTART;TZID=Europe/Vienna:20260627T180000
DTEND;TZID=Europe/Vienna:20260627T220000
DTSTAMP:20260421T161013
CREATED:20260106T133305Z
LAST-MODIFIED:20260106T133422Z
UID:12389-1782583200-1782597600@dorfplatz-staw.net
SUMMARY:Grenzenlos kochen - La Dolce Vita Italiana
DESCRIPTION:Gemeinsam Kochen und Essen ist eine einfache Möglichkeit einander zu begegnen.\nNützen wir sie\, um einander auch kennen zu lernen. \nWir treffen uns ab 18:00 Uhr am Dorfplatz\, Josef-Karner-Platz 1 in Wördern. Die Köch*innen bringen Zutaten und evtl. nötige Spezialgerätschaften mit (die übliche Küchenausstattung ist vor Ort vorhanden). Ihr solltet für ca. 6 Personen kochen\, damit alle eine kleine Kostprobe bekommen. \nMehr Info: www.grenzenloskochen.at
URL:https://dorfplatz-staw.net/event/grenzenlos-kochen-4/
LOCATION:Niederösterreich
CATEGORIES:Grenzenlos
ATTACH;FMTTYPE=image/jpeg:https://dorfplatz-staw.net/wp-content/uploads/2025/09/11_Mieke_Veron_Linde_IMG_5658-scaled-e1758019989431.jpg
ORGANIZER;CN="Verein Grenzenlos":MAILTO:office@grenzenloskochen.at
END:VEVENT
END:VCALENDAR