BEGIN:VCALENDAR
VERSION:2.0
PRODID:-//Dorfplatz STAW - ECPv6.10.2//NONSGML v1.0//EN
CALSCALE:GREGORIAN
METHOD:PUBLISH
X-WR-CALNAME:Dorfplatz STAW
X-ORIGINAL-URL:https://dorfplatz-staw.net
X-WR-CALDESC:Events for Dorfplatz STAW
REFRESH-INTERVAL;VALUE=DURATION:PT1H
X-Robots-Tag:noindex
X-PUBLISHED-TTL:PT1H
BEGIN:VTIMEZONE
TZID:Europe/Vienna
BEGIN:DAYLIGHT
TZOFFSETFROM:+0100
TZOFFSETTO:+0200
TZNAME:CEST
DTSTART:20260329T010000
END:DAYLIGHT
BEGIN:STANDARD
TZOFFSETFROM:+0200
TZOFFSETTO:+0100
TZNAME:CET
DTSTART:20261025T010000
END:STANDARD
END:VTIMEZONE
BEGIN:VEVENT
DTSTART;TZID=Europe/Vienna:20260612T180000
DTEND;TZID=Europe/Vienna:20260612T220000
DTSTAMP:20260421T124436
CREATED:20260107T083126Z
LAST-MODIFIED:20260107T083215Z
UID:12427-1781287200-1781301600@dorfplatz-staw.net
SUMMARY:Spieleabend & Grenzenlos Weltcafé
DESCRIPTION:Unser Stammgast Michael stellt an diesem Abend Spiele aus seiner privaten Sammlung zur Verfügung und hilft auch gerne bei den ersten Schritten. Das Angebot ist breit gefächert\, vom einfachen Kartenspiel bis zum komplexen Strategiespiel ist alles vertreten – so sollte für alle etwas dabei sein. Bringt auch euer Lieblingsspiel\, um es mit uns gemeinsam zu spielen! \nZudem lädt das Grenzenlos Weltcafé zum offenen Stammtisch\, Caj-Tee trinken\, plaudern\, kennenlernen… \n\nDie Hofküche bietet kleine Gerichte und Getränke – wir freuen uns auf einen gemütlichen Abend.
URL:https://dorfplatz-staw.net/event/spieleabend-7/
LOCATION:Hofküche am DORFPLATZ\, Josef-Karner-Platz 1\, St. Andrä-Wördern\, Niederösterreich\, 3423\, Austria
CATEGORIES:Grenzenlos,Hofküche
ATTACH;FMTTYPE=image/png:https://dorfplatz-staw.net/wp-content/uploads/2026/01/foto_spieleabend_2024_Ursula-Sova.png
ORGANIZER;CN="Verein Grenzenlos":MAILTO:office@grenzenloskochen.at
END:VEVENT
END:VCALENDAR