BEGIN:VCALENDAR
VERSION:2.0
PRODID:-//Dorfplatz STAW - ECPv6.10.2//NONSGML v1.0//EN
CALSCALE:GREGORIAN
METHOD:PUBLISH
X-WR-CALNAME:Dorfplatz STAW
X-ORIGINAL-URL:https://dorfplatz-staw.net
X-WR-CALDESC:Events for Dorfplatz STAW
REFRESH-INTERVAL;VALUE=DURATION:PT1H
X-Robots-Tag:noindex
X-PUBLISHED-TTL:PT1H
BEGIN:VTIMEZONE
TZID:Europe/Vienna
BEGIN:DAYLIGHT
TZOFFSETFROM:+0100
TZOFFSETTO:+0200
TZNAME:CEST
DTSTART:20260329T010000
END:DAYLIGHT
BEGIN:STANDARD
TZOFFSETFROM:+0200
TZOFFSETTO:+0100
TZNAME:CET
DTSTART:20261025T010000
END:STANDARD
END:VTIMEZONE
BEGIN:VEVENT
DTSTART;TZID=Europe/Vienna:20260503T130000
DTEND;TZID=Europe/Vienna:20260503T180000
DTSTAMP:20260423T110935
CREATED:20260420T151858Z
LAST-MODIFIED:20260420T152441Z
UID:12753-1777813200-1777831200@dorfplatz-staw.net
SUMMARY:World Table Tennis Day mit Riesenringerl
DESCRIPTION:Komm vorbei und sei dabei beim Tischtennis-Event mit Riesen-Ringerl für Groß und Klein!\n\n14:00 Riesen-Ringerl\nBring gerne deinen Schläger mit!\n\n\nEine Kooperation von DORFPLATZ\, NÖTTV und Sportunion.
URL:https://dorfplatz-staw.net/event/worldtabletennisday/
LOCATION:DORFPLATZ\, Josef-Karner-Platz 1\, St. Andrä-Wördern\, 3423\, Austria
ATTACH;FMTTYPE=image/jpeg:https://dorfplatz-staw.net/wp-content/uploads/2026/04/Woerderner-Riesenringerl-Plakat-Kopie-scaled.jpg
ORGANIZER;CN="Verein DORFPLATZ":MAILTO:veranstaltung@dorfplatz-staw.net
END:VEVENT
END:VCALENDAR