BEGIN:VCALENDAR
VERSION:2.0
PRODID:-//Dorfplatz STAW - ECPv6.10.2//NONSGML v1.0//EN
CALSCALE:GREGORIAN
METHOD:PUBLISH
X-WR-CALNAME:Dorfplatz STAW
X-ORIGINAL-URL:https://dorfplatz-staw.net
X-WR-CALDESC:Events for Dorfplatz STAW
REFRESH-INTERVAL;VALUE=DURATION:PT1H
X-Robots-Tag:noindex
X-PUBLISHED-TTL:PT1H
BEGIN:VTIMEZONE
TZID:Europe/Vienna
BEGIN:DAYLIGHT
TZOFFSETFROM:+0100
TZOFFSETTO:+0200
TZNAME:CEST
DTSTART:20260329T010000
END:DAYLIGHT
BEGIN:STANDARD
TZOFFSETFROM:+0200
TZOFFSETTO:+0100
TZNAME:CET
DTSTART:20261025T010000
END:STANDARD
END:VTIMEZONE
BEGIN:VEVENT
DTSTART;TZID=Europe/Vienna:20260424T170000
DTEND;TZID=Europe/Vienna:20260424T180000
DTSTAMP:20260421T105630
CREATED:20260326T091446Z
LAST-MODIFIED:20260326T093115Z
UID:12631-1777050000-1777053600@dorfplatz-staw.net
SUMMARY:Hofg´schichten-Führung
DESCRIPTION:Macht gemeinsam mit Paul Daniel einen geführten Rundgang über den DORFPLATZ und lauscht den spannenden Geschichten\, die er euch über die Vergangenheit und den Alltag dieses Ortes zu erzählen hat. Treffpunkt vor der Hofküche. \n24. APRIL | 5. JUNI | 17. JULI – jeweils 17 Uhr\nAnmeldung: info@dorfplatz-staw.net
URL:https://dorfplatz-staw.net/event/fuehrung_hofgschichten/
LOCATION:DORFPLATZ\, Josef-Karner-Platz 1\, St. Andrä-Wördern\, 3423\, Austria
CATEGORIES:Kulturveranstaltungen
ATTACH;FMTTYPE=image/jpeg:https://dorfplatz-staw.net/wp-content/uploads/2026/03/hofgschichten_illu-1.jpg
ORGANIZER;CN="Verein DORFPLATZ":MAILTO:veranstaltung@dorfplatz-staw.net
END:VEVENT
BEGIN:VEVENT
DTSTART;TZID=Europe/Vienna:20260424T190000
DTEND;TZID=Europe/Vienna:20260424T220000
DTSTAMP:20260421T105630
CREATED:20260119T122708Z
LAST-MODIFIED:20260120T125158Z
UID:12476-1777057200-1777068000@dorfplatz-staw.net
SUMMARY:Jukebox Jam
DESCRIPTION:Hofküche ab 18 Uhr |  \nLebendiger geht Musik fast nicht: Eine zusammengewürfelte Stegreifband erfüllt Songwünsche aus dem Publikum – wie die gute alte\nJukebox – nur live! Die Musiker*innen geben ihr Bestes\, das Publikum lässt sich begeistern\, hilft mit Stimme oder einem Instrument aus!\nKünstlerische Leitung: Andreas Grün \nFoto © DORFPLATZ \n 
URL:https://dorfplatz-staw.net/event/jukeboxjam/
LOCATION:Hofküche am DORFPLATZ\, Josef-Karner-Platz 1\, St. Andrä-Wördern\, Niederösterreich\, 3423\, Austria
CATEGORIES:Kulturveranstaltungen
ATTACH;FMTTYPE=image/jpeg:https://dorfplatz-staw.net/wp-content/uploads/2025/09/jukeboxjam-e1758020631448.jpeg
END:VEVENT
END:VCALENDAR